BEGIN:VCALENDAR
VERSION:2.0
PRODID:icalendar-ruby
CALSCALE:GREGORIAN
METHOD:PUBLISH
BEGIN:VEVENT
DTSTAMP:20260422T113214Z
UID:12-2031519@gbcfam.org
DTSTART:20261013T013000Z
DTEND:20261013T023000Z
CLASS:PUBLIC
CREATED:20260421T174747
DESCRIPTION:Women Of Grace
LAST-MODIFIED:20260421T174747
LOCATION:
SUMMARY:Women Of Grace
URL;VALUE=URI:https://www.gbcfam.org/events/women-of-grace/2026-10-12
ATTACH;FILENAME=IMG_9472.jpeg;FMTTYPE=image/jpeg:https://dq5pwpg1q8ru0.clou
 dfront.net/2023/05/17/17/58/21/7d1096d4-0db2-4ed2-ae63-e012e4f43801/IMG_94
 72.jpeg
END:VEVENT
END:VCALENDAR
