BEGIN:VCALENDAR
VERSION:2.0
PRODID:icalendar-ruby
CALSCALE:GREGORIAN
METHOD:PUBLISH
BEGIN:VEVENT
DTSTAMP:20260424T152459Z
UID:11-2049079@gbcfam.org
DTSTART:20260920T174500Z
DTEND:20260920T184500Z
CLASS:PUBLIC
CREATED:20260424T074615
DESCRIPTION:Sunday Service
LAST-MODIFIED:20260424T074615
LOCATION:
SUMMARY:Sunday Service 
URL;VALUE=URI:https://www.gbcfam.org/events/sunday-service/2026-09-20
ATTACH;FILENAME=IMG_9464.jpeg;FMTTYPE=image/jpeg:https://dq5pwpg1q8ru0.clou
 dfront.net/2023/05/17/17/55/27/1c8e7a29-61f3-4f81-ae87-48ec4fa004da/IMG_94
 64.jpeg
END:VEVENT
END:VCALENDAR
