BEGIN:VCALENDAR
VERSION:2.0
PRODID:icalendar-ruby
CALSCALE:GREGORIAN
METHOD:PUBLISH
BEGIN:VEVENT
DTSTAMP:20260424T232836Z
UID:20-2053974@gbcfam.org
DTSTART;VALUE=DATE:20261018
DTEND;VALUE=DATE:20261018
CLASS:PUBLIC
CREATED:20260424T160837
DESCRIPTION:
LAST-MODIFIED:20260424T160837
LOCATION:
SUMMARY:Sunday School
URL;VALUE=URI:https://www.gbcfam.org/events/sunday-school/2026-10-18
ATTACH;FILENAME=IMG_9460.jpeg;FMTTYPE=image/jpeg:https://dq5pwpg1q8ru0.clou
 dfront.net/2023/05/18/14/48/57/de3b5ffa-ad92-40b0-906e-78c0e0c3bdc3/IMG_94
 60.jpeg
END:VEVENT
END:VCALENDAR
